BEGIN:VCALENDAR
VERSION:2.0
PRODID:-//wp-events-plugin.com//7.2.3.1//EN
TZID:Europe/London
X-WR-TIMEZONE:Europe/London
BEGIN:VEVENT
UID:8@heatherstevensart.co.uk
DTSTART;TZID=Europe/London:20260614T000000
DTEND;TZID=Europe/London:20260614T170000
DTSTAMP:20260415T121425Z
URL:http://heatherstevensart.co.uk/events/parham-house-sussex-day/
SUMMARY:Parham House Sussex Day
DESCRIPTION:On Sunday 14th June\, Sussex Day will be celebrated at Parham H
 ouse &amp\; Gardens. Taking place over one afternoon\, this delightful eve
 nt will be a showcase for local produce\, crafts and art in the picturesqu
 e setting of the Pleasure Grounds at Parham House.
ATTACH;FMTTYPE=image/jpeg:http://heatherstevensart.co.uk/wp-content/upload
 s/2026/04/Screenshot-2026-04-15-131355.png
LOCATION:Parham House & Gardens\,  Pulborough\,  Pulborough\, West Sussex \
 , RH20 4HR\, United Kingdom
X-APPLE-STRUCTURED-LOCATION;VALUE=URI;X-ADDRESS= Pulborough\,  Pulborough\,
  West Sussex \, RH20 4HR\, United Kingdom;X-APPLE-RADIUS=100;X-TITLE=Parha
 m House & Gardens:geo:0,0
END:VEVENT
BEGIN:VTIMEZONE
TZID:Europe/London
X-LIC-LOCATION:Europe/London
BEGIN:DAYLIGHT
DTSTART:20260329T020000
TZOFFSETFROM:+0000
TZOFFSETTO:+0100
TZNAME:BST
END:DAYLIGHT
END:VTIMEZONE
END:VCALENDAR