BEGIN:VCALENDAR
VERSION:2.0
PRODID:-//wp-events-plugin.com//7.2.3.1//EN
TZID:Europe/London
X-WR-TIMEZONE:Europe/London
BEGIN:VEVENT
UID:2@heatherstevensart.co.uk
DTSTART;TZID=Europe/London:20260516T100000
DTEND;TZID=Europe/London:20260525T170000
DTSTAMP:20260415T120703Z
URL:http://heatherstevensart.co.uk/events/chichester-open-studios/
SUMMARY:Chichester Open Studios
DESCRIPTION:May 16th\,17th\,23rd\,24th\,25th.\n10am to 5pm
ATTACH;FMTTYPE=image/jpeg:http://heatherstevensart.co.uk/wp-content/upload
 s/2025/03/chichester-open-studios.jpg
END:VEVENT
BEGIN:VTIMEZONE
TZID:Europe/London
X-LIC-LOCATION:Europe/London
BEGIN:DAYLIGHT
DTSTART:20260329T020000
TZOFFSETFROM:+0000
TZOFFSETTO:+0100
TZNAME:BST
END:DAYLIGHT
END:VTIMEZONE
END:VCALENDAR