BEGIN:VCALENDAR
VERSION:2.0
PRODID:-//wp-events-plugin.com//7.2.3.1//EN
TZID:Europe/London
X-WR-TIMEZONE:Europe/London
BEGIN:VEVENT
UID:56@heatherstevensart.co.uk
DTSTART;TZID=Europe/London:20260718T090000
DTEND;TZID=Europe/London:20260730T170000
DTSTAMP:20260415T124017Z
URL:http://heatherstevensart.co.uk/events/bognor-coastal-art-trail/
SUMMARY:Bognor Coastal Art Trail
DESCRIPTION:Bognor Coastal Art Trail
ATTACH;FMTTYPE=image/jpeg:http://heatherstevensart.co.uk/wp-content/upload
 s/2021/07/WhatsApp-Image-2021-07-04-at-17.33.13-2.jpg
LOCATION:TBA\, TBA\, TBA\, TBA\, TBA\, United Kingdom
X-APPLE-STRUCTURED-LOCATION;VALUE=URI;X-ADDRESS=TBA\, TBA\, TBA\, TBA\, Uni
 ted Kingdom;X-APPLE-RADIUS=100;X-TITLE=TBA:geo:0,0
END:VEVENT
BEGIN:VTIMEZONE
TZID:Europe/London
X-LIC-LOCATION:Europe/London
BEGIN:DAYLIGHT
DTSTART:20260329T020000
TZOFFSETFROM:+0000
TZOFFSETTO:+0100
TZNAME:BST
END:DAYLIGHT
END:VTIMEZONE
END:VCALENDAR