BEGIN:VCALENDAR
VERSION:2.0
PRODID:-//wp-events-plugin.com//7.2.3.1//EN
TZID:Europe/London
X-WR-TIMEZONE:Europe/London
BEGIN:VEVENT
UID:1@heatherstevensart.co.uk
DTSTART;TZID=Europe/London:20260425T100000
DTEND;TZID=Europe/London:20260425T160000
DTSTAMP:20260415T115029Z
URL:http://heatherstevensart.co.uk/events/arundel-museum-artisan-spring-fa
 yre/
SUMMARY:Arundel Museum Artisan Fayre
DESCRIPTION:Featuring seven artist and makers local to Arundel\, you’ll f
 ind witty\, kitsch and poignant assemblages\, unique cards and coasters ba
 sed on artists original art works\, luscious ceramics\, calming watercolou
 r landscapes\, recycled metal garden art\, glorious felted products and pi
 ctures\, immaculately designed and sewn textile gifts\, exquisite illustra
 ted stained glass and colourful sustainable jewellery. You’ll be spoiled
  for choice! Refreshments (in aid of the museum trust) will help you choos
 e the perfect presents for family\, friends and yourself.\n\n&nbsp\;
ATTACH;FMTTYPE=image/jpeg:http://heatherstevensart.co.uk/wp-content/upload
 s/2026/04/WhatsApp-Image-2026-04-13-at-19.45.36.jpeg
LOCATION:Arundel Museum\, Mill Road \, Arundel \, West Sussex\, BN18 9PA\, 
 United Kingdom
X-APPLE-STRUCTURED-LOCATION;VALUE=URI;X-ADDRESS=Mill Road \, Arundel \, Wes
 t Sussex\, BN18 9PA\, United Kingdom;X-APPLE-RADIUS=100;X-TITLE=Arundel Mu
 seum:geo:0,0
END:VEVENT
BEGIN:VTIMEZONE
TZID:Europe/London
X-LIC-LOCATION:Europe/London
BEGIN:DAYLIGHT
DTSTART:20260329T020000
TZOFFSETFROM:+0000
TZOFFSETTO:+0100
TZNAME:BST
END:DAYLIGHT
END:VTIMEZONE
END:VCALENDAR