BEGIN:VCALENDAR
VERSION:2.0
PRODID:-//wp-events-plugin.com//7.2.3.1//EN
TZID:Europe/London
X-WR-TIMEZONE:Europe/London
BEGIN:VEVENT
UID:14@heatherstevensart.co.uk
DTSTART;TZID=Europe/London:20260822T000000
DTEND;TZID=Europe/London:20260910T170000
DTSTAMP:20260415T124257Z
URL:http://heatherstevensart.co.uk/events/arundel-gallery-trail/
SUMMARY:Arundel Gallery Trail
DESCRIPTION:\n\n\n\nIn August every year Arundel Gallery Trail offers the c
 hance to explore this beautiful West Sussex town in a different way. Artis
 ts\, makers\, galleries\, shops and homeowners throw open their doors and 
 invite you into their studios\, houses and their creative thought processe
 s. The Trail is a largely walkable\, open house art event featuring 100+ a
 rtists and makers and it’s free to all visitors.\n\n\n\n
ATTACH;FMTTYPE=image/jpeg:http://heatherstevensart.co.uk/wp-content/upload
 s/2026/03/AGT-LOGO-Graphics-2026.png
LOCATION:Arundel Gallery Trail\, Flintwalls\, 14a Queens Lane  \, Arundel\,
  West Sussex\, BN18 9JN\, United Kingdom
X-APPLE-STRUCTURED-LOCATION;VALUE=URI;X-ADDRESS=Flintwalls\, 14a Queens Lan
 e  \, Arundel\, West Sussex\, BN18 9JN\, United Kingdom;X-APPLE-RADIUS=100
 ;X-TITLE=Arundel Gallery Trail:geo:0,0
END:VEVENT
BEGIN:VTIMEZONE
TZID:Europe/London
X-LIC-LOCATION:Europe/London
BEGIN:DAYLIGHT
DTSTART:20260329T020000
TZOFFSETFROM:+0000
TZOFFSETTO:+0100
TZNAME:BST
END:DAYLIGHT
END:VTIMEZONE
END:VCALENDAR